BEGIN:VCALENDAR
VERSION:2.0
PRODID:icalendar-ruby
CALSCALE:GREGORIAN
METHOD:PUBLISH
BEGIN:VEVENT
DTSTAMP:20260422T080819Z
UID:551-590087@calvaryorangecity.com
DTSTART:20260422T224500Z
DTEND:20260423T013000Z
CLASS:PUBLIC
CREATED:20260413T110836
DESCRIPTION:
LAST-MODIFIED:20260413T110836
LOCATION:
SUMMARY:Cadets
URL;VALUE=URI:https://calvaryorangecity.com/events/cadets--551/2026-04-22
ATTACH;FILENAME=Cadets-2.png;FMTTYPE=image/png:https://dq5pwpg1q8ru0.cloudf
 ront.net/2026/04/13/16/08/36/25f8cc23-ce43-48ec-820b-1a973ef03250/Cadets-2
 .png
END:VEVENT
END:VCALENDAR
